BEGIN:VCALENDAR
VERSION:2.0
PRODID:-//Suryadatta National School - ECPv5.6.0//NONSGML v1.0//EN
CALSCALE:GREGORIAN
METHOD:PUBLISH
X-WR-CALNAME:Suryadatta National School
X-ORIGINAL-URL:https://www.suryadattaschool.org
X-WR-CALDESC:Events for Suryadatta National School
BEGIN:VTIMEZONE
TZID:UTC
BEGIN:STANDARD
TZOFFSETFROM:+0000
TZOFFSETTO:+0000
TZNAME:UTC
DTSTART:20250101T000000
END:STANDARD
END:VTIMEZONE
BEGIN:VEVENT
DTSTART;TZID=UTC:20250916T080000
DTEND;TZID=UTC:20540916T170000
DTSTAMP:20260421T095142
CREATED:20250916T104449Z
LAST-MODIFIED:20250916T104449Z
UID:11501-1758009600-2673190800@www.suryadattaschool.org
SUMMARY:Independence day- Celebration Activities for Class-V
DESCRIPTION:Independence day- Celebration Activities for Class-V\nOn 14th August\, the students of Class V celebrated Independence Day by presenting how the Indian flag has changed over the period of time. This activity was conducted during the morning assembly\, where children came forward one by one to explain the design and significance of the Indian flag in various years. Through this engaging presentation\, students developed a deeper understanding of the history and evolution of the national flag\, fostering patriotism and respect for the country’s heritage.
URL:https://www.suryadattaschool.org/event/independence-day-celebration-activities-for-class-v/
CATEGORIES:Celebrations
ATTACH;FMTTYPE=image/jpeg:https://www.suryadattaschool.org/wp-content/uploads/2025/09/Independence-day-Celebration-Activities-for-Class-V.jpg
END:VEVENT
END:VCALENDAR