BEGIN:VCALENDAR
VERSION:2.0
PRODID:-//Suryadatta National School - ECPv5.6.0//NONSGML v1.0//EN
CALSCALE:GREGORIAN
METHOD:PUBLISH
X-WR-CALNAME:Suryadatta National School
X-ORIGINAL-URL:https://www.suryadattaschool.org
X-WR-CALDESC:Events for Suryadatta National School
BEGIN:VTIMEZONE
TZID:UTC
BEGIN:STANDARD
TZOFFSETFROM:+0000
TZOFFSETTO:+0000
TZNAME:UTC
DTSTART:20250101T000000
END:STANDARD
END:VTIMEZONE
BEGIN:VEVENT
DTSTART;TZID=UTC:20250915T080000
DTEND;TZID=UTC:20541116T170000
DTSTAMP:20260419T142343
CREATED:20250915T115034Z
LAST-MODIFIED:20250916T075437Z
UID:11454-1757923200-2678461200@www.suryadattaschool.org
SUMMARY:Monsoon Splash Party-Pre-Primary
DESCRIPTION:Monsoon Splash Party-Pre-Primary\nThe Monsoon Splash Party was joyfully celebrated on 25th July in school for the pre-primary students. Dressed in colorful raincoats and umbrellas\, the little ones had a great time dancing and playing in the water. The little ones came dressed in colorful raincoats and enjoyed dancing and playing in water\, splashing around with joy. A special treat of hot\, tasty corns added to the fun\, making the rainy day celebration even more enjoyable. The cheerful atmosphere\, rain dance\, and delicious snacks made it a fun-filled and memorable experience for the children.
URL:https://www.suryadattaschool.org/event/monsoon-splash-party-pre-primary/
CATEGORIES:Unique Events
ATTACH;FMTTYPE=image/jpeg:https://www.suryadattaschool.org/wp-content/uploads/2025/09/Monsoon-Splash-Party-Pre-Primary.jpg
END:VEVENT
END:VCALENDAR